BEGIN:VCALENDAR
VERSION:2.0
PRODID:-//Bognor Regis &amp; District Motorcycle Club - ECPv6.15.17//NONSGML v1.0//EN
CALSCALE:GREGORIAN
METHOD:PUBLISH
X-WR-CALNAME:Bognor Regis &amp; District Motorcycle Club
X-ORIGINAL-URL:https://brdmcc.org
X-WR-CALDESC:Events for Bognor Regis &amp; District Motorcycle Club
REFRESH-INTERVAL;VALUE=DURATION:PT1H
X-Robots-Tag:noindex
X-PUBLISHED-TTL:PT1H
BEGIN:VTIMEZONE
TZID:Europe/London
BEGIN:DAYLIGHT
TZOFFSETFROM:+0000
TZOFFSETTO:+0100
TZNAME:BST
DTSTART:20230326T010000
END:DAYLIGHT
BEGIN:STANDARD
TZOFFSETFROM:+0100
TZOFFSETTO:+0000
TZNAME:GMT
DTSTART:20231029T010000
END:STANDARD
BEGIN:DAYLIGHT
TZOFFSETFROM:+0000
TZOFFSETTO:+0100
TZNAME:BST
DTSTART:20240331T010000
END:DAYLIGHT
BEGIN:STANDARD
TZOFFSETFROM:+0100
TZOFFSETTO:+0000
TZNAME:GMT
DTSTART:20241027T010000
END:STANDARD
BEGIN:DAYLIGHT
TZOFFSETFROM:+0000
TZOFFSETTO:+0100
TZNAME:BST
DTSTART:20250330T010000
END:DAYLIGHT
BEGIN:STANDARD
TZOFFSETFROM:+0100
TZOFFSETTO:+0000
TZNAME:GMT
DTSTART:20251026T010000
END:STANDARD
END:VTIMEZONE
BEGIN:VEVENT
DTSTART;TZID=Europe/London:20241020T100000
DTEND;TZID=Europe/London:20241020T160000
DTSTAMP:20260419T145033
CREATED:20231215T161536Z
LAST-MODIFIED:20231215T161536Z
UID:9658-1729418400-1729440000@brdmcc.org
SUMMARY:Practice\, Halnaker Chalk Pit
DESCRIPTION:Members and non-members welcome. \nYES to Trials bikes\, Pit bikes\, small/medium Quads. \nNo to Motocross\, Enduro\, full-size Quads. \nRiding starts at 10:00am\, £20 per bike.
URL:https://brdmcc.org/event/practice-halnaker-chalk-pit-26/
LOCATION:Halnaker Trials Pit\, PO18 0QS\, United Kingdom
END:VEVENT
BEGIN:VEVENT
DTSTART;TZID=Europe/London:20241027T103000
DTEND;TZID=Europe/London:20241027T160000
DTSTAMP:20260419T145033
CREATED:20231215T142918Z
LAST-MODIFIED:20231215T142918Z
UID:9638-1730025000-1730044800@brdmcc.org
SUMMARY:Club Trial\, The Benges
DESCRIPTION:Clerk of Course Chris Brooks.
URL:https://brdmcc.org/event/club-trial-the-benges-3/
LOCATION:The Benges\, The Benges\, Halnaker\, West Sussex\, PO18 0NA\, United Kingdom
END:VEVENT
END:VCALENDAR