BEGIN:VCALENDAR
VERSION:2.0
PRODID:-//Bognor Regis &amp; District Motorcycle Club - ECPv6.15.17//NONSGML v1.0//EN
CALSCALE:GREGORIAN
METHOD:PUBLISH
X-WR-CALNAME:Bognor Regis &amp; District Motorcycle Club
X-ORIGINAL-URL:https://brdmcc.org
X-WR-CALDESC:Events for Bognor Regis &amp; District Motorcycle Club
REFRESH-INTERVAL;VALUE=DURATION:PT1H
X-Robots-Tag:noindex
X-PUBLISHED-TTL:PT1H
BEGIN:VTIMEZONE
TZID:Europe/London
BEGIN:DAYLIGHT
TZOFFSETFROM:+0000
TZOFFSETTO:+0100
TZNAME:BST
DTSTART:20240331T010000
END:DAYLIGHT
BEGIN:STANDARD
TZOFFSETFROM:+0100
TZOFFSETTO:+0000
TZNAME:GMT
DTSTART:20241027T010000
END:STANDARD
BEGIN:DAYLIGHT
TZOFFSETFROM:+0000
TZOFFSETTO:+0100
TZNAME:BST
DTSTART:20250330T010000
END:DAYLIGHT
BEGIN:STANDARD
TZOFFSETFROM:+0100
TZOFFSETTO:+0000
TZNAME:GMT
DTSTART:20251026T010000
END:STANDARD
BEGIN:DAYLIGHT
TZOFFSETFROM:+0000
TZOFFSETTO:+0100
TZNAME:BST
DTSTART:20260329T010000
END:DAYLIGHT
BEGIN:STANDARD
TZOFFSETFROM:+0100
TZOFFSETTO:+0000
TZNAME:GMT
DTSTART:20261025T010000
END:STANDARD
END:VTIMEZONE
BEGIN:VEVENT
DTSTART;TZID=Europe/London:20251006T193000
DTEND;TZID=Europe/London:20251006T220000
DTSTAMP:20260425T005445
CREATED:20250929T161021Z
LAST-MODIFIED:20250929T161021Z
UID:11970-1759779000-1759788000@brdmcc.org
SUMMARY:AGM 6th October 7:30
DESCRIPTION:Dear Members. \nThis year’s AGM is on the 6th of October 2025 at The Walnut Tree Pub in Runcton (Postcode PO20 1QB). Join us at 7.30pm for an 8pm start. There will be a buffet after the meeting. We hope as many of you as possible can attend; it’s important to have your say about next year’s events and how we run them. BRDMCC is a member’s club which has been running for 76 years! The trials we put on are only possible because we have great volunteers and regular riders. We want to get things right so that we can keep going and we rely on your support in this. There will be an extra sausage roll for everyone who has a good idea! \nHope to see you there!
URL:https://brdmcc.org/event/agm-6th-october-730/
LOCATION:The Walnut Tree Pub\, Runcton
END:VEVENT
BEGIN:VEVENT
DTSTART;TZID=Europe/London:20251019T100000
DTEND;TZID=Europe/London:20251019T160000
DTSTAMP:20260425T005445
CREATED:20250103T105808Z
LAST-MODIFIED:20250103T105808Z
UID:11427-1760868000-1760889600@brdmcc.org
SUMMARY:Practice\, Halnaker
DESCRIPTION:Informal Practice Session at Halnaker Chalk Pit \nRiding starts at 10:00 \nMembers and non-members welcome. \nYES to Trials bikes\, Pit bikes\, small/medium Quads. \nNo to Motocross\, Enduro\, full-size Quads. \nRiding starts at 10:00am\, £20 per bike.
URL:https://brdmcc.org/event/practice-halnaker-9/
LOCATION:Halnaker Trials Pit\, PO18 0QS\, United Kingdom
END:VEVENT
BEGIN:VEVENT
DTSTART;TZID=Europe/London:20251026T103000
DTEND;TZID=Europe/London:20251026T163000
DTSTAMP:20260425T005445
CREATED:20250103T104122Z
LAST-MODIFIED:20250103T104122Z
UID:11407-1761474600-1761496200@brdmcc.org
SUMMARY:Club Trial\, Chithurst Woods
DESCRIPTION:Clerk of course Tim Carter
URL:https://brdmcc.org/event/club-trial-chithurst-woods-5/
LOCATION:Chithurst Wood\, Milland\, GU31 5EZ\, United Kingdom
END:VEVENT
END:VCALENDAR