BEGIN:VCALENDAR
VERSION:2.0
PRODID:-//Bognor Regis &amp; District Motorcycle Club - ECPv6.15.17//NONSGML v1.0//EN
CALSCALE:GREGORIAN
METHOD:PUBLISH
X-ORIGINAL-URL:https://brdmcc.org
X-WR-CALDESC:Events for Bognor Regis &amp; District Motorcycle Club
REFRESH-INTERVAL;VALUE=DURATION:PT1H
X-Robots-Tag:noindex
X-PUBLISHED-TTL:PT1H
BEGIN:VTIMEZONE
TZID:Europe/London
BEGIN:DAYLIGHT
TZOFFSETFROM:+0000
TZOFFSETTO:+0100
TZNAME:BST
DTSTART:20240331T010000
END:DAYLIGHT
BEGIN:STANDARD
TZOFFSETFROM:+0100
TZOFFSETTO:+0000
TZNAME:GMT
DTSTART:20241027T010000
END:STANDARD
BEGIN:DAYLIGHT
TZOFFSETFROM:+0000
TZOFFSETTO:+0100
TZNAME:BST
DTSTART:20250330T010000
END:DAYLIGHT
BEGIN:STANDARD
TZOFFSETFROM:+0100
TZOFFSETTO:+0000
TZNAME:GMT
DTSTART:20251026T010000
END:STANDARD
BEGIN:DAYLIGHT
TZOFFSETFROM:+0000
TZOFFSETTO:+0100
TZNAME:BST
DTSTART:20260329T010000
END:DAYLIGHT
BEGIN:STANDARD
TZOFFSETFROM:+0100
TZOFFSETTO:+0000
TZNAME:GMT
DTSTART:20261025T010000
END:STANDARD
END:VTIMEZONE
BEGIN:VEVENT
DTSTART;TZID=Europe/London:20251116T100000
DTEND;TZID=Europe/London:20251116T160000
DTSTAMP:20260424T232230
CREATED:20250103T105903Z
LAST-MODIFIED:20250103T105903Z
UID:11429-1763287200-1763308800@brdmcc.org
SUMMARY:Practice\, Halnaker
DESCRIPTION:Informal Practice Session at Halnaker Chalk Pit \nRiding starts at 10:00 \nMembers and non-members welcome. \nYES to Trials bikes\, Pit bikes\, small/medium Quads. \nNo to Motocross\, Enduro\, full-size Quads. \nRiding starts at 10:00am\, £20 per bike.
URL:https://brdmcc.org/event/practice-halnaker-10/
LOCATION:Halnaker Trials Pit\, PO18 0QS\, United Kingdom
END:VEVENT
BEGIN:VEVENT
DTSTART;TZID=Europe/London:20251123T103000
DTEND;TZID=Europe/London:20251123T163000
DTSTAMP:20260424T232230
CREATED:20250103T104243Z
LAST-MODIFIED:20250415T101736Z
UID:11409-1763893800-1763915400@brdmcc.org
SUMMARY:Club Trial\, Head Down
DESCRIPTION:Clerk of Course John Laker.
URL:https://brdmcc.org/event/club-trial-venue-tba-2/
LOCATION:Head Down\, Buriton\, GU31 5SN\, United Kingdom
END:VEVENT
END:VCALENDAR