BEGIN:VCALENDAR
VERSION:2.0
PRODID:-//Bognor Regis &amp; District Motorcycle Club - ECPv6.15.17//NONSGML v1.0//EN
CALSCALE:GREGORIAN
METHOD:PUBLISH
X-ORIGINAL-URL:https://brdmcc.org
X-WR-CALDESC:Events for Bognor Regis &amp; District Motorcycle Club
REFRESH-INTERVAL;VALUE=DURATION:PT1H
X-Robots-Tag:noindex
X-PUBLISHED-TTL:PT1H
BEGIN:VTIMEZONE
TZID:Europe/London
BEGIN:DAYLIGHT
TZOFFSETFROM:+0000
TZOFFSETTO:+0100
TZNAME:BST
DTSTART:20250330T010000
END:DAYLIGHT
BEGIN:STANDARD
TZOFFSETFROM:+0100
TZOFFSETTO:+0000
TZNAME:GMT
DTSTART:20251026T010000
END:STANDARD
BEGIN:DAYLIGHT
TZOFFSETFROM:+0000
TZOFFSETTO:+0100
TZNAME:BST
DTSTART:20260329T010000
END:DAYLIGHT
BEGIN:STANDARD
TZOFFSETFROM:+0100
TZOFFSETTO:+0000
TZNAME:GMT
DTSTART:20261025T010000
END:STANDARD
BEGIN:DAYLIGHT
TZOFFSETFROM:+0000
TZOFFSETTO:+0100
TZNAME:BST
DTSTART:20270328T010000
END:DAYLIGHT
BEGIN:STANDARD
TZOFFSETFROM:+0100
TZOFFSETTO:+0000
TZNAME:GMT
DTSTART:20271031T010000
END:STANDARD
END:VTIMEZONE
BEGIN:VEVENT
DTSTART;TZID=Europe/London:20260719T100000
DTEND;TZID=Europe/London:20260719T160000
DTSTAMP:20260420T112414
CREATED:20251229T152051Z
LAST-MODIFIED:20251229T152051Z
UID:12017-1784455200-1784476800@brdmcc.org
SUMMARY:Trials Practice\, Halnaker Chalk Pit
DESCRIPTION:Trials Practice\, Halnaker Chalk Pit \nInformal Practice Session at Halnaker Chalk Pit. Practice your trials skills in the woods\, or ride your pit bike\, small quad\, or electric bike around the tracks. \nMembers and non-members welcome. \nYES to Trials bikes\, Pit bikes\, small/medium Quads. \nNo to Motocross\, Enduro\, full-size Quads. \nRiding starts at 10:00am\, £20 per bike.
URL:https://brdmcc.org/event/trials-practice-halnaker-chalk-pit-6/
LOCATION:Halnaker Trials Pit\, PO18 0QS\, United Kingdom
END:VEVENT
BEGIN:VEVENT
DTSTART;TZID=Europe/London:20260726T103000
DTEND;TZID=Europe/London:20260726T160000
DTSTAMP:20260420T112414
CREATED:20251229T154354Z
LAST-MODIFIED:20251229T154354Z
UID:12045-1785061800-1785081600@brdmcc.org
SUMMARY:Club Trial\, Head Down Woods
DESCRIPTION:Club Trial\, \nRoutes for all levels. Sign up at the start. \nRiding begins at 10:30. \nNon-members very welcome. \nObservers always needed!
URL:https://brdmcc.org/event/club-trial-head-down-woods-7/
LOCATION:Head Down\, Buriton\, GU31 5SN\, United Kingdom
END:VEVENT
END:VCALENDAR